BEGIN:VCALENDAR
VERSION:2.0
PRODID:-//Ορειβατικός Σύλλογος Ρεθύμνου - ECPv6.15.20//NONSGML v1.0//EN
CALSCALE:GREGORIAN
METHOD:PUBLISH
X-WR-CALNAME:Ορειβατικός Σύλλογος Ρεθύμνου
X-ORIGINAL-URL:https://eosrethymnou.gr
X-WR-CALDESC:Events for Ορειβατικός Σύλλογος Ρεθύμνου
REFRESH-INTERVAL;VALUE=DURATION:PT1H
X-Robots-Tag:noindex
X-PUBLISHED-TTL:PT1H
BEGIN:VTIMEZONE
TZID:Europe/Helsinki
BEGIN:DAYLIGHT
TZOFFSETFROM:+0200
TZOFFSETTO:+0300
TZNAME:EEST
DTSTART:20250330T010000
END:DAYLIGHT
BEGIN:STANDARD
TZOFFSETFROM:+0300
TZOFFSETTO:+0200
TZNAME:EET
DTSTART:20251026T010000
END:STANDARD
BEGIN:DAYLIGHT
TZOFFSETFROM:+0200
TZOFFSETTO:+0300
TZNAME:EEST
DTSTART:20260329T010000
END:DAYLIGHT
BEGIN:STANDARD
TZOFFSETFROM:+0300
TZOFFSETTO:+0200
TZNAME:EET
DTSTART:20261025T010000
END:STANDARD
BEGIN:DAYLIGHT
TZOFFSETFROM:+0200
TZOFFSETTO:+0300
TZNAME:EEST
DTSTART:20270328T010000
END:DAYLIGHT
BEGIN:STANDARD
TZOFFSETFROM:+0300
TZOFFSETTO:+0200
TZNAME:EET
DTSTART:20271031T010000
END:STANDARD
END:VTIMEZONE
BEGIN:VEVENT
DTSTART;VALUE=DATE:20260314
DTEND;VALUE=DATE:20260316
DTSTAMP:20260421T110211
CREATED:20251230T144925Z
LAST-MODIFIED:20260307T150232Z
UID:3494-1773446400-1773619199@eosrethymnou.gr
SUMMARY:Διήμερο στα Λευκά Όρη
DESCRIPTION:Διήμερη διάσχιση των (σχεδόν) χιονισμένων Λευκών Ορέων. \nΘα ξεκινήσουμε από το καταφύγιο Βόλικα\, το Σάββατο το πρωί\, θα ανέβουμε στην κορυφή Σπαθί και θα κατέβουμε στη Λιβάδα για διανυκτέρευση. Την Κυριακή θα κινηθούμε ανατολικά και αφού περάσουμε το Σιδηροπορτί\, θα ανέβουμε στην κορυφογραμμή που περνάει διαδοχικά από τις κορυφές Κανάκη Πουσιά και Ακρωτηριανός. Συνεχίζουμε ανεβαίνοντας στην Πασπαλομύτη και το Φανάρι για να κατέβουμε στο οροπέδιο της Ταύρης. \nΟι συμμετέχοντες θα πρέπει να έχουν εμπειρία στο χειμερινό βουνό και κατάλληλο εξοπλισμό για υπάιθρια διανυκέρευση. \nΩ.Π.: 5:30 + 11 \nΑρχηγός: Μαρία Βλάσση \nτηλ. 6936939768
URL:https://eosrethymnou.gr/event/%ce%b4%ce%b9%ce%ae%ce%bc%ce%b5%cf%81%ce%bf-%cf%83%cf%84%ce%b1-%ce%bb%ce%b5%cf%85%ce%ba%ce%ac-%cf%8c%cf%81%ce%b7/
END:VEVENT
END:VCALENDAR