BEGIN:VCALENDAR
VERSION:2.0
PRODID:-//Ορειβατικός Σύλλογος Ρεθύμνου - ECPv6.15.20//NONSGML v1.0//EN
CALSCALE:GREGORIAN
METHOD:PUBLISH
X-WR-CALNAME:Ορειβατικός Σύλλογος Ρεθύμνου
X-ORIGINAL-URL:https://eosrethymnou.gr
X-WR-CALDESC:Events for Ορειβατικός Σύλλογος Ρεθύμνου
REFRESH-INTERVAL;VALUE=DURATION:PT1H
X-Robots-Tag:noindex
X-PUBLISHED-TTL:PT1H
BEGIN:VTIMEZONE
TZID:Europe/Helsinki
BEGIN:DAYLIGHT
TZOFFSETFROM:+0200
TZOFFSETTO:+0300
TZNAME:EEST
DTSTART:20250330T010000
END:DAYLIGHT
BEGIN:STANDARD
TZOFFSETFROM:+0300
TZOFFSETTO:+0200
TZNAME:EET
DTSTART:20251026T010000
END:STANDARD
BEGIN:DAYLIGHT
TZOFFSETFROM:+0200
TZOFFSETTO:+0300
TZNAME:EEST
DTSTART:20260329T010000
END:DAYLIGHT
BEGIN:STANDARD
TZOFFSETFROM:+0300
TZOFFSETTO:+0200
TZNAME:EET
DTSTART:20261025T010000
END:STANDARD
BEGIN:DAYLIGHT
TZOFFSETFROM:+0200
TZOFFSETTO:+0300
TZNAME:EEST
DTSTART:20270328T010000
END:DAYLIGHT
BEGIN:STANDARD
TZOFFSETFROM:+0300
TZOFFSETTO:+0200
TZNAME:EET
DTSTART:20271031T010000
END:STANDARD
END:VTIMEZONE
BEGIN:VEVENT
DTSTART;VALUE=DATE:20260329
DTEND;VALUE=DATE:20260330
DTSTAMP:20260421T195503
CREATED:20251230T145046Z
LAST-MODIFIED:20260408T071008Z
UID:3496-1774742400-1774828799@eosrethymnou.gr
SUMMARY:Ονιθέ + παιδικό τμήμα
DESCRIPTION:Η διαδρομή μας αυτή την Κυριακή θα είναι στην Ονιθέ και θα έχει φυσιολατρικό-ιστοριοδιφικό χαρακτήρα. Θα εκκινήσουμε με τα οχήματα μας από τα γραφεία του συλλόγου\, για να μεταβούμε στο χωριό Γουλεδιανά.\n\n\nΑπό εκεί θα ανηφορίσουμε προς τον αρχαιολογικό χώρο\, επισκεπτόμενοι τον εγκαταλελειμμένο Ενετικό/Οθωμανικό οικισμό και τις παλαιές κρήνες. Ακολούθως\, θα συνεχίσουμε προς το πλάτωμα ‘Τσίγκουνας’ που ήταν και ο κυρίως χώρος εγκατάστασης κατά την αρχαιότητα. Κατά την πορεία θα κάνουμε μια πρώτη στάση στις αρχαϊκές οικίες και θα καταλήξουμε στην Ακρόπολη όπου και θα θαυμάσουμε την ανεμπόδιστη θέα που εκτείνεται από την κοιλάδα του Αγ. Βασιλείου μέχρι το Φράγμα Ποταμών Αμαρίου.\n\n\nΣυνεχίζοντας προς τα ανατολικά\, θα επισκεφτούμε την Παλαιοχριστιανική Βασιλική\, το Βενετσιάνικο Χάνι και τον όμορφο Βενετσιάνικο ναό της Ζωοδόχου Πηγής.\n\n\nΗ διαδρομή θα ολοκληρωθεί με μια πεζοπορία μέσα από το κατάφυτο πλάτωμα που θα μας φέρει πάλι στο σημείο εκκίνησης. Απαραίτητος εξοπλισμός\, κλειστά ορειβατικά μποτάκια.\n\n\n\n\n\nΒαθμός δυσκολίας: 1 (εύκολη)\n\n\nΑπόσταση: 8\,5 χλμ – Υψομετρική διαφορά: μικρή\n\n\nΔιάρκεια: περίπου 5 ώρες (μαζί με στάσεις)\n\n\n\n\n\nΑρχηγοί:\n\n\nΜακρογιαννέλης Πασχάλης (6970838123)\n\n\nΜανωλεσάκης Κωστής – παιδικό τμήμα (6976402902)
URL:https://eosrethymnou.gr/event/%ce%bf%ce%bd%ce%b9%ce%b8%ce%ad-%cf%80%ce%b1%ce%b9%ce%b4%ce%b9%ce%ba%cf%8c-%cf%84%ce%bc%ce%ae%ce%bc%ce%b1/
CATEGORIES:Παιδικές
END:VEVENT
END:VCALENDAR